BEGIN:VCALENDAR
VERSION:2.0
PRODID:icalendar-ruby
CALSCALE:GREGORIAN
METHOD:PUBLISH
BEGIN:VEVENT
DTSTAMP:20260419T131622Z
UID:148-316201@tonkawaclc.com
DTSTART:20260619T140000Z
DTEND:20260620T150000Z
CLASS:PUBLIC
CREATED:20260406T152814
DESCRIPTION:
LAST-MODIFIED:20260406T152814
LOCATION:Arkansas City\, KS 
SUMMARY:Camp Horizon 
URL;VALUE=URI:https://tonkawaclc.com/events/camp-horizon/2026-06-19
END:VEVENT
END:VCALENDAR
