BEGIN:VCALENDAR
VERSION:2.0
PRODID:icalendar-ruby
CALSCALE:GREGORIAN
METHOD:PUBLISH
BEGIN:VEVENT
DTSTAMP:20260421T085153Z
UID:146-308209@tonkawaclc.com
DTSTART:20260516T160000Z
DTEND:20260516T200000Z
CLASS:PUBLIC
CREATED:20260330T134321
DESCRIPTION:
LAST-MODIFIED:20260330T134321
LOCATION:
SUMMARY:Denton Reserved 
URL;VALUE=URI:https://tonkawaclc.com/events/denton-reserved/2026-05-16
END:VEVENT
END:VCALENDAR
