BEGIN:VCALENDAR
VERSION:2.0
PRODID:icalendar-ruby
CALSCALE:GREGORIAN
METHOD:PUBLISH
BEGIN:VEVENT
DTSTAMP:20260421T090808Z
UID:149-310303@tonkawaclc.com
DTSTART:20260805T050000Z
DTEND:20260807T180000Z
CLASS:PUBLIC
CREATED:20260401T115753
DESCRIPTION:
LAST-MODIFIED:20260401T115753
LOCATION:
SUMMARY:VBS 
URL;VALUE=URI:https://tonkawaclc.com/events/vbs/2026-08-05
END:VEVENT
END:VCALENDAR
